BEGIN:VCALENDAR
VERSION:2.0
PRODID:-//Dynamic Competition Initiative - ECPv6.15.20//NONSGML v1.0//EN
CALSCALE:GREGORIAN
METHOD:PUBLISH
X-WR-CALNAME:Dynamic Competition Initiative
X-ORIGINAL-URL:https://www.dynamiccompetition.com
X-WR-CALDESC:Events for Dynamic Competition Initiative
REFRESH-INTERVAL;VALUE=DURATION:PT1H
X-Robots-Tag:noindex
X-PUBLISHED-TTL:PT1H
BEGIN:VTIMEZONE
TZID:Europe/Paris
BEGIN:DAYLIGHT
TZOFFSETFROM:+0100
TZOFFSETTO:+0200
TZNAME:CEST
DTSTART:20220327T010000
END:DAYLIGHT
BEGIN:STANDARD
TZOFFSETFROM:+0200
TZOFFSETTO:+0100
TZNAME:CET
DTSTART:20221030T010000
END:STANDARD
BEGIN:DAYLIGHT
TZOFFSETFROM:+0100
TZOFFSETTO:+0200
TZNAME:CEST
DTSTART:20230326T010000
END:DAYLIGHT
BEGIN:STANDARD
TZOFFSETFROM:+0200
TZOFFSETTO:+0100
TZNAME:CET
DTSTART:20231029T010000
END:STANDARD
BEGIN:DAYLIGHT
TZOFFSETFROM:+0100
TZOFFSETTO:+0200
TZNAME:CEST
DTSTART:20240331T010000
END:DAYLIGHT
BEGIN:STANDARD
TZOFFSETFROM:+0200
TZOFFSETTO:+0100
TZNAME:CET
DTSTART:20241027T010000
END:STANDARD
END:VTIMEZONE
BEGIN:VEVENT
DTSTART;TZID=Europe/Paris:20230117T180000
DTEND;TZID=Europe/Paris:20230117T200000
DTSTAMP:20260423T150057
CREATED:20220929T123850Z
LAST-MODIFIED:20230124T225508Z
UID:6924-1673978400-1673985600@www.dynamiccompetition.com
SUMMARY:Roundtable with Neil Chilson
DESCRIPTION:In his book\, Neil Chilson makes the case that the best response to complexity is an emergent mindset that seeks opportunities to “get out of control.” This mindset requires people to embrace their autonomy as individuals and admit limitations as part of something larger. \nThe emergent mindset confounds managers grasping for control but holds great promise for leaders willing to adopt it. \nDiscussants:  \n  \n\nPeter Klein\nAsta Pundziene\n\n				 \n  \n  \n  \nBook summary\, (5 pages) by Natalia Moreno Belloso \n													\n															\n																										 \nNeil Chilson is a senior research fellow for technology and innovation at Stand Together where he spearheads the Stand Together community’s efforts to foster an environment that encourages innovation and the individual and societal progress it makes possible. He is also author of the book\, Getting Out of Control: Emergent Leadership in a Complex World. \nPrior to his current role\, Chilson was the Federal Trade Commission’s (FTC) chief technologist. In this capacity\, he focused on understanding the economics of privacy\, convening a workshop on informational injury\, and establishing the FTC’s Blockchain Working Group\, among other things. Prior to his appointment\, Chilson was an adviser to then-Acting FTC Chairman Maureen K. Ohlhausen. In both roles he advised Chairman Ohlhausen and worked with commission staff on nearly every major technology-related case\, report\, workshop\, and proceeding. Chilson practiced telecommunications law at Wilkinson Barker Knauer\, LLP before joining the FTC in January 2014. \nChilson is a regular contributor to multiple news outlets\, including the Washington Post\, USA Today\, and Newsweek. \nChilson holds a law degree from the George Washington University Law School and a master’s degree in computer science from the University of Illinois\, Urbana-Champaign. He received his bachelor’s degree in computer science from Harding University.
URL:https://www.dynamiccompetition.com/event/roundtable-with-neil-chilson/
LOCATION:online
CATEGORIES:Roundtable
ATTACH;FMTTYPE=image/jpeg:https://www.dynamiccompetition.com/wp-content/uploads/2022/09/E_-fpYjWEAA8gGv.jpeg
END:VEVENT
END:VCALENDAR