BEGIN:VCALENDAR
VERSION:2.0
PRODID:-//Dynamic Competition Initiative - ECPv6.15.20//NONSGML v1.0//EN
CALSCALE:GREGORIAN
METHOD:PUBLISH
X-ORIGINAL-URL:https://www.dynamiccompetition.com
X-WR-CALDESC:Events for Dynamic Competition Initiative
REFRESH-INTERVAL;VALUE=DURATION:PT1H
X-Robots-Tag:noindex
X-PUBLISHED-TTL:PT1H
BEGIN:VTIMEZONE
TZID:Europe/Paris
BEGIN:DAYLIGHT
TZOFFSETFROM:+0100
TZOFFSETTO:+0200
TZNAME:CEST
DTSTART:20220327T010000
END:DAYLIGHT
BEGIN:STANDARD
TZOFFSETFROM:+0200
TZOFFSETTO:+0100
TZNAME:CET
DTSTART:20221030T010000
END:STANDARD
BEGIN:DAYLIGHT
TZOFFSETFROM:+0100
TZOFFSETTO:+0200
TZNAME:CEST
DTSTART:20230326T010000
END:DAYLIGHT
BEGIN:STANDARD
TZOFFSETFROM:+0200
TZOFFSETTO:+0100
TZNAME:CET
DTSTART:20231029T010000
END:STANDARD
BEGIN:DAYLIGHT
TZOFFSETFROM:+0100
TZOFFSETTO:+0200
TZNAME:CEST
DTSTART:20240331T010000
END:DAYLIGHT
BEGIN:STANDARD
TZOFFSETFROM:+0200
TZOFFSETTO:+0100
TZNAME:CET
DTSTART:20241027T010000
END:STANDARD
END:VTIMEZONE
BEGIN:VEVENT
DTSTART;TZID=Europe/Paris:20231205T083000
DTEND;TZID=Europe/Paris:20231205T130000
DTSTAMP:20260421T105632
CREATED:20231010T103545Z
LAST-MODIFIED:20231208T114946Z
UID:7756-1701765000-1701781200@www.dynamiccompetition.com
SUMMARY:Chief Economists Roundtable
DESCRIPTION:
URL:https://www.dynamiccompetition.com/event/chief-economists-roundtable/
LOCATION:Florence\, Italy
CATEGORIES:In-person Conference,Live-streamed,Roundtable
ATTACH;FMTTYPE=image/png:https://www.dynamiccompetition.com/wp-content/uploads/2023/09/Screenshot-2023-09-14-at-12.34.33.png
END:VEVENT
END:VCALENDAR