BEGIN:VCALENDAR
VERSION:2.0
PRODID:-//Dynamic Competition Initiative - ECPv6.15.20//NONSGML v1.0//EN
CALSCALE:GREGORIAN
METHOD:PUBLISH
X-WR-CALNAME:Dynamic Competition Initiative
X-ORIGINAL-URL:https://www.dynamiccompetition.com
X-WR-CALDESC:Events for Dynamic Competition Initiative
REFRESH-INTERVAL;VALUE=DURATION:PT1H
X-Robots-Tag:noindex
X-PUBLISHED-TTL:PT1H
BEGIN:VTIMEZONE
TZID:Europe/Paris
BEGIN:DAYLIGHT
TZOFFSETFROM:+0100
TZOFFSETTO:+0200
TZNAME:CEST
DTSTART:20210328T010000
END:DAYLIGHT
BEGIN:STANDARD
TZOFFSETFROM:+0200
TZOFFSETTO:+0100
TZNAME:CET
DTSTART:20211031T010000
END:STANDARD
BEGIN:DAYLIGHT
TZOFFSETFROM:+0100
TZOFFSETTO:+0200
TZNAME:CEST
DTSTART:20220327T010000
END:DAYLIGHT
BEGIN:STANDARD
TZOFFSETFROM:+0200
TZOFFSETTO:+0100
TZNAME:CET
DTSTART:20221030T010000
END:STANDARD
BEGIN:DAYLIGHT
TZOFFSETFROM:+0100
TZOFFSETTO:+0200
TZNAME:CEST
DTSTART:20230326T010000
END:DAYLIGHT
BEGIN:STANDARD
TZOFFSETFROM:+0200
TZOFFSETTO:+0100
TZNAME:CET
DTSTART:20231029T010000
END:STANDARD
END:VTIMEZONE
BEGIN:VTIMEZONE
TZID:Europe/Helsinki
BEGIN:DAYLIGHT
TZOFFSETFROM:+0200
TZOFFSETTO:+0300
TZNAME:EEST
DTSTART:20210328T010000
END:DAYLIGHT
BEGIN:STANDARD
TZOFFSETFROM:+0300
TZOFFSETTO:+0200
TZNAME:EET
DTSTART:20211031T010000
END:STANDARD
BEGIN:DAYLIGHT
TZOFFSETFROM:+0200
TZOFFSETTO:+0300
TZNAME:EEST
DTSTART:20220327T010000
END:DAYLIGHT
BEGIN:STANDARD
TZOFFSETFROM:+0300
TZOFFSETTO:+0200
TZNAME:EET
DTSTART:20221030T010000
END:STANDARD
BEGIN:DAYLIGHT
TZOFFSETFROM:+0200
TZOFFSETTO:+0300
TZNAME:EEST
DTSTART:20230326T010000
END:DAYLIGHT
BEGIN:STANDARD
TZOFFSETFROM:+0300
TZOFFSETTO:+0200
TZNAME:EET
DTSTART:20231029T010000
END:STANDARD
END:VTIMEZONE
BEGIN:VEVENT
DTSTART;TZID=Europe/Paris:20221102T170000
DTEND;TZID=Europe/Paris:20221102T190000
DTSTAMP:20260423T230240
CREATED:20220720T023819Z
LAST-MODIFIED:20221108T093620Z
UID:6471-1667408400-1667415600@www.dynamiccompetition.com
SUMMARY:Roundtable with Doug Melamed
DESCRIPTION:The roundtable focused on Prof Doug Melamed’s recent paper titled “Mergers involving nascent competitors”. The paper advances a framework for a narrow prohibition of such mergers\, based on Section 2 of the Sherman Act. More broadly\, the aim with the roundtable was to offer a forum to discuss the law and economics of the treatment of “killer acquisitions” in antitrust policy. \n \nhttps://youtu.be/eaqht7NhBkA		 \nDiscussants: \n\nAllison Stanger\nDavid Bosco\n\nBackground docs: \nMelamed\, A. Douglas\, Mergers Involving Nascent Competition (January 14\, 2022). Stanford Law and Economics Olin Working Paper No. 566\, Available at SSRN: https://ssrn.com/abstract=4009229 or http://dx.doi.org/10.2139/ssrn.4009229 \n  \n  \nLiterature review on killer acquisitions (5 pages)\, by Sara Guidi and Anouk Van der Veer \n													\n															\n																										 \nDoug Melamed practiced law for 43 years before spending the 2014-15 academic year at the Law School as the Herman Phleger Visiting Professor of Law. He was appointed Professor of the Practice of Law in 2015. \nFrom 2009 until 2014\, Professor Melamed was Senior Vice President and General Counsel of Intel Corporation and was responsible for overseeing Intel’s legal\, government affairs and corporate affairs departments. Prior to joining Intel in 2009\, he was a partner in the Washington\, D.C.\, office of WilmerHale\, a global law firm in which he served as a chair of the Antitrust and Competition Practice Group. His practice included appellate and trial court litigation\, counseling\, and representing clients in matters before government law enforcement and regulatory agencies. He joined WilmerHale’s predecessor in 1971. From 1996 to 2001\, Professor Melamed served in the U.S. Department of Justice as Acting Assistant Attorney General in charge of the Antitrust Division and\, before that\, as Principal Deputy Assistant Attorney General. \nProfessor Melamed has received numerous professional awards and honors. He has been the Distinguished Visitor from Practice and an adjunct professor at the Georgetown University Law Center\, and he has authored numerous articles on antitrust and on law and economics. He is a member of the boards of directors of the Nasdaq exchanges and the American Law Institute and a Contributing Editor of the Antitrust Law Journal. He was for many years a member of the Yale University Council and a member of the board of trustees of Sidwell Friends School in Washington\, D.C.  After graduating from law school\, he clerked for Judge Charles M. Merrill of the U.S. Court of Appeals for the Ninth Circuit.
URL:https://www.dynamiccompetition.com/event/dci-roundtable-with-doug-melamed/
LOCATION:online
CATEGORIES:Roundtable
ATTACH;FMTTYPE=image/png:https://www.dynamiccompetition.com/wp-content/uploads/2022/07/Screenshot-2022-08-02-at-15.31.40.png
END:VEVENT
BEGIN:VEVENT
DTSTART;TZID=Europe/Paris:20220912T170000
DTEND;TZID=Europe/Paris:20220912T190000
DTSTAMP:20260423T230240
CREATED:20220702T232450Z
LAST-MODIFIED:20221115T131107Z
UID:6029-1663002000-1663009200@www.dynamiccompetition.com
SUMMARY:Roundtable with Steve Cernak
DESCRIPTION:The roundtable focuses on a retrospective analysis of the Allison(GM)/ZF transaction\, 1993. The Allison transaction illustrates the question of competitive pressure from outside the market that merger guidelines require to define. In the transaction\, the DoJ defined a narrow market following standard static tools like the SSNIP test. The market definition made little sense when compared to actual industry reports. What were the constraints\, if any\, that led the DoJ in the particular case to follow that route\, and reject alternative market definitions? And what teaching can we harvest for contemporary cases? \n				 \nDiscussants: \n\nDoug Melamed\nNicolas Petit\n\n\nBackground docs: \n\nDCI Summary – The GM/ZF (1993) Complaint\nInitial complaint esp. para 35 and following: https://appliedantitrust.com/09_merger_guidelines/07_cases/zf_complaint11_16_1993.pdf\nAllison’s “Why Allison?” landing page\nAllison’s most recent 10-K (Pages 3-23 inclusive are sufficient)\nAllison’s most recent quarterly presentation to investors (Slides 2\, 6\, 7\, and 17 recommended)\n\n  \n  \n  \n  \nThe GM/ZF (1993) Complaint – Natalia Moreno Belloso\, 2022 \n													\n															 \n  \n  \n  \n  \nA Framework for Antitrust Retrospectives – Illustrated by the 1993 Antitrust Case Against General Motors’ Sale of Allison Transmission – Nicolas Petit\, 2022 \n													\n															\n																										 \nSteven Cernak is a respected leader in the international antitrust and competition law community. He served as in-house antitrust attorney at General Motors for more than 20 years\, ultimately responsible for global antitrust compliance\, merger reviews and litigation. As a result\, Steve has experience tackling the toughest antitrust issues\, and explaining them to everyone in an organization from the CEO to workers in the factories. \nAfter leaving GM\, Steve spent seven years at Schiff Hardin’s Ann Arbor office\, serving clients both inside and outside the automotive community. As he did at Schiff Hardin\, Steve now assists clients big and small on a wide array of competition and consumer protection matters\, including compliance programs; joint efforts with competitors; pricing strategies and programs; and merger reviews and filings. \nSteve has served in the leadership of the Antitrust Section of the American Bar Association for more than 20 years\, and is currently the Section Committee Chief. That position keeps him connected to the global community and up-to-date on developments. \nSteve is a prolific writer for The Antitrust Lawyer Blog\, WoltersKluwer’s AntitrustConnect Blog and various Law360\, Lexis and Westlaw publications. The second edition of his textbook of antitrust summaries and materials\, Antitrust Simulations\, was published in 2019 by West Academic. He updates his Antitrust in Distribution and Franchising annually for publication in the LexisNexis Antitrust Law & Strategy Series. Steve is also a frequent commenter on antitrust developments\, both on social and mainstream media. \nSteve is a regular teacher at both the University of Michigan Law School and the Thomas M. Cooley Law School Corporate & Finance LLM program. He also taught for three years at Wayne State University Law School.
URL:https://www.dynamiccompetition.com/event/dci-roundtable-w-steve-cernak/
CATEGORIES:Roundtable
ATTACH;FMTTYPE=image/png:https://www.dynamiccompetition.com/wp-content/uploads/2022/08/Screenshot-2022-08-30-at-11.14.03.png
END:VEVENT
BEGIN:VEVENT
DTSTART;TZID=Europe/Helsinki:20220721T093000
DTEND;TZID=Europe/Helsinki:20220721T110000
DTSTAMP:20260423T230240
CREATED:20190530T125124Z
LAST-MODIFIED:20220805T070917Z
UID:267-1658395800-1658401200@www.dynamiccompetition.com
SUMMARY:Dynamic Competition Initiative | Launch Event
DESCRIPTION:The DCI launch was an open\, virtual event where we discussed Dynamism\, Competition\, and the key principles\, commitments\, and activities of our Initiative. Below is the agenda: \nWelcome and Introduction \n\nBowman Heiden (UC-Berkeley and UGOT)\nThibault Schrepel (VU Amsterdam and Stanford)\n\nSession 1\, Dynamism? \nModerator: \n\nThibault Schrepel (VU Amsterdam and Stanford)\n\nPanelists: \n\nDavid Teece (UC-Berkeley and BRG)\nConnie Helfat (Dartmouth)\n\nSession 2\, Competition? \nModerator: \n\nNicolas Petit (EUI and College of Europe)\n\nPanelist: \n\nBill Kovacic (George Washington University)\nIoanna Constantiou (Copenhagen Business School)\n\nSession 3\, Initiative?  \n\nNicolas Petit (EUI and College of Europe\n\nBuy Ticket
URL:https://www.dynamiccompetition.com/event/launch-event/
LOCATION:online
CATEGORIES:Online Conference
ATTACH;FMTTYPE=image/jpeg:https://www.dynamiccompetition.com/wp-content/uploads/2019/05/cedric-letsch-RRCGUnUC-FU-unsplash-1-scaled.jpg
END:VEVENT
END:VCALENDAR