BEGIN:VCALENDAR
VERSION:2.0
PRODID:-//Dynamic Competition Initiative - ECPv6.15.20//NONSGML v1.0//EN
CALSCALE:GREGORIAN
METHOD:PUBLISH
X-WR-CALNAME:Dynamic Competition Initiative
X-ORIGINAL-URL:https://www.dynamiccompetition.com
X-WR-CALDESC:Events for Dynamic Competition Initiative
REFRESH-INTERVAL;VALUE=DURATION:PT1H
X-Robots-Tag:noindex
X-PUBLISHED-TTL:PT1H
BEGIN:VTIMEZONE
TZID:Europe/Paris
BEGIN:DAYLIGHT
TZOFFSETFROM:+0100
TZOFFSETTO:+0200
TZNAME:CEST
DTSTART:20240331T010000
END:DAYLIGHT
BEGIN:STANDARD
TZOFFSETFROM:+0200
TZOFFSETTO:+0100
TZNAME:CET
DTSTART:20241027T010000
END:STANDARD
BEGIN:DAYLIGHT
TZOFFSETFROM:+0100
TZOFFSETTO:+0200
TZNAME:CEST
DTSTART:20250330T010000
END:DAYLIGHT
BEGIN:STANDARD
TZOFFSETFROM:+0200
TZOFFSETTO:+0100
TZNAME:CET
DTSTART:20251026T010000
END:STANDARD
BEGIN:DAYLIGHT
TZOFFSETFROM:+0100
TZOFFSETTO:+0200
TZNAME:CEST
DTSTART:20260329T010000
END:DAYLIGHT
BEGIN:STANDARD
TZOFFSETFROM:+0200
TZOFFSETTO:+0100
TZNAME:CET
DTSTART:20261025T010000
END:STANDARD
BEGIN:DAYLIGHT
TZOFFSETFROM:+0100
TZOFFSETTO:+0200
TZNAME:CEST
DTSTART:20270328T010000
END:DAYLIGHT
BEGIN:STANDARD
TZOFFSETFROM:+0200
TZOFFSETTO:+0100
TZNAME:CET
DTSTART:20271031T010000
END:STANDARD
END:VTIMEZONE
BEGIN:VTIMEZONE
TZID:America/New_York
BEGIN:DAYLIGHT
TZOFFSETFROM:-0500
TZOFFSETTO:-0400
TZNAME:EDT
DTSTART:20250309T070000
END:DAYLIGHT
BEGIN:STANDARD
TZOFFSETFROM:-0400
TZOFFSETTO:-0500
TZNAME:EST
DTSTART:20251102T060000
END:STANDARD
BEGIN:DAYLIGHT
TZOFFSETFROM:-0500
TZOFFSETTO:-0400
TZNAME:EDT
DTSTART:20260308T070000
END:DAYLIGHT
BEGIN:STANDARD
TZOFFSETFROM:-0400
TZOFFSETTO:-0500
TZNAME:EST
DTSTART:20261101T060000
END:STANDARD
BEGIN:DAYLIGHT
TZOFFSETFROM:-0500
TZOFFSETTO:-0400
TZNAME:EDT
DTSTART:20270314T070000
END:DAYLIGHT
BEGIN:STANDARD
TZOFFSETFROM:-0400
TZOFFSETTO:-0500
TZNAME:EST
DTSTART:20271107T060000
END:STANDARD
END:VTIMEZONE
BEGIN:VEVENT
DTSTART;TZID=Europe/Paris:20250619T170000
DTEND;TZID=Europe/Paris:20250619T180000
DTSTAMP:20260422T014845
CREATED:20250602T152444Z
LAST-MODIFIED:20250611T145222Z
UID:8678-1750352400-1750356000@www.dynamiccompetition.com
SUMMARY:DCI Webinar on the DMA and Digital Advertisement
DESCRIPTION:Follow this link or QR code below to register
URL:https://www.dynamiccompetition.com/event/dci-webinar-on-the-dma-and-digital-advertisement/
LOCATION:online
CATEGORIES:Webinar
ATTACH;FMTTYPE=image/jpeg:https://www.dynamiccompetition.com/wp-content/uploads/2025/06/eleni-afiontzi-gLU8GZpHtRA-unsplash-scaled.jpg
END:VEVENT
BEGIN:VEVENT
DTSTART;TZID=Europe/Paris:20250715T170000
DTEND;TZID=Europe/Paris:20250716T190000
DTSTAMP:20260422T014845
CREATED:20250627T181113Z
LAST-MODIFIED:20250628T071658Z
UID:8508-1752598800-1752692400@www.dynamiccompetition.com
SUMMARY:DCI + EUI Competition Law and Policy Workshop
DESCRIPTION:
URL:https://www.dynamiccompetition.com/event/3rd-dci-annual-conference/
LOCATION:Florence\, Italy
CATEGORIES:Invitation-only,Policy Seminar,Virtual
ATTACH;FMTTYPE=image/jpeg:https://www.dynamiccompetition.com/wp-content/uploads/2025/01/anton-sulsky-YcfCXxo7rpc-unsplash-scaled.jpg
END:VEVENT
BEGIN:VEVENT
DTSTART;TZID=Europe/Paris:20250911T150000
DTEND;TZID=Europe/Paris:20250911T170000
DTSTAMP:20260422T014845
CREATED:20250813T145612Z
LAST-MODIFIED:20250917T083712Z
UID:8694-1757602800-1757610000@www.dynamiccompetition.com
SUMMARY:Webinar: Buyer Power and Power Buyers in Cellular SEP Licensing: Are there implications for Competition?
DESCRIPTION:Buyer Power and Power Buyers in Cellular SEP Licensing: Are there implications for Competition? \nWhile European Competition Law has guided the development of ETSI standards since the outset\, competition law concerns in the licensing of SEPs related to these standards have focused on the potential for hold up of patent implementers by patent owners.  The thinking has been that the standard-setting process eliminates competition in relevant markets defined around each patent holders’ technology (or technologies). Lately\, the problem of hold-out by implementers has also received some policymaking and academic attention.  However\, hold out is often discussed in terms of tactics such as litigation and delays in licensing.  Little attention\, so far\, has been paid to potential competition concerns arising with holdout.  The non-self-enforcing nature of patent rights\, the licensor’s constraints under FRAND and the framework governing the availability of injunctive relief for SEPs\, are all factors that could tilt bargaining power towards implementers\, although they have often been overlooked in traditional discussions of the licensing marketplace.  The question we ask is whether hold-out has an antitrust or competition policy dimension to it.   \nAlthough\, in theory\, there is no elimination of competition as a result of standard-setting and there are multiple buyers for each portfolio\, we consider whether individual “power buyers” wield particularly great levels of bargaining power and can influence marketplace licence outcomes.  We consider factors such as the licensors’ financial dependency on particular buyers\, the “validation effect” of licences with certain buyers\, and the impact of the exercise of bargaining power in one negotiation on subsequent negotiations of the licensor and licensee alike.  We consider whether the impact is akin to that of monopsony power\, i.e.\, restricting output in the licensing marketplace and depressing licensors’ reward to below FRAND levels.  We consider the impact on innovation in SEPs of any potential monopsony power\, and whether future innovative activity in ETSI might be distorted in favour of vertically integrated firms.  Finally\, we also briefly consider whether competition law is an effective way to tackle the issues we identify.
URL:https://www.dynamiccompetition.com/event/webinar-buyer-power-and-power-buyers-in-cellular-sep-licensing-are-there-implications-for-competition/
CATEGORIES:Webinar
ATTACH;FMTTYPE=image/png:https://www.dynamiccompetition.com/wp-content/uploads/2025/08/Screenshot-2025-08-13-at-17.06.55.png
END:VEVENT
BEGIN:VEVENT
DTSTART;TZID=Europe/Paris:20251110T170000
DTEND;TZID=Europe/Paris:20251110T190000
DTSTAMP:20260422T014845
CREATED:20250905T105754Z
LAST-MODIFIED:20251123T231514Z
UID:8710-1762794000-1762801200@www.dynamiccompetition.com
SUMMARY:DCI Book Review: "Reshuffle" by Sangeet Paul Choudary
DESCRIPTION:
URL:https://www.dynamiccompetition.com/event/dci-book-review-reshuffle-by-sangeet-paul-choudary/
LOCATION:online
CATEGORIES:Webinar
ATTACH;FMTTYPE=image/png:https://www.dynamiccompetition.com/wp-content/uploads/2025/09/Screenshot-2025-09-05-at-12.56.23.png
END:VEVENT
BEGIN:VEVENT
DTSTART;TZID=Europe/Paris:20251203T100000
DTEND;TZID=Europe/Paris:20251203T180000
DTSTAMP:20260422T014845
CREATED:20251027T153852Z
LAST-MODIFIED:20251201T105433Z
UID:8743-1764756000-1764784800@www.dynamiccompetition.com
SUMMARY:DCI Merger Control and Innovation : How to Implement The Draghi Report
DESCRIPTION:Register here
URL:https://www.dynamiccompetition.com/event/dci-merger-control-and-innovation-how-to-implement-the-draghi-report/
LOCATION:Paris\, France
CATEGORIES:In-person Conference,Invitation-only
ATTACH;FMTTYPE=image/png:https://www.dynamiccompetition.com/wp-content/uploads/2025/10/Screenshot-2025-10-27-at-16.38.06.png
END:VEVENT
BEGIN:VEVENT
DTSTART;VALUE=DATE:20260129
DTEND;VALUE=DATE:20260130
DTSTAMP:20260422T014845
CREATED:20260206T134340Z
LAST-MODIFIED:20260206T135255Z
UID:8839-1769644800-1769731199@www.dynamiccompetition.com
SUMMARY:Industry Roundtable
DESCRIPTION:
URL:https://www.dynamiccompetition.com/event/industry-roundtable/
LOCATION:Berkeley Haas\, 2220 Piedmont Ave\, Berkeley\, California\, 94720\, United States
CATEGORIES:Invitation-only,Roundtable
ATTACH;FMTTYPE=image/webp:https://www.dynamiccompetition.com/wp-content/uploads/2026/02/istockphoto-812090812-612x612-1.webp
END:VEVENT
BEGIN:VEVENT
DTSTART;VALUE=DATE:20260206
DTEND;VALUE=DATE:20260207
DTSTAMP:20260422T014845
CREATED:20260206T134810Z
LAST-MODIFIED:20260206T140313Z
UID:8841-1770336000-1770422399@www.dynamiccompetition.com
SUMMARY:Launch of the Constitution of Innovation
DESCRIPTION:Registration here\nMore information can be found here
URL:https://www.dynamiccompetition.com/event/launch-of-constitution-of-innovation/
LOCATION:Florence\, Italy
CATEGORIES:Live-streamed,Online Conference
ATTACH;FMTTYPE=image/png:https://www.dynamiccompetition.com/wp-content/uploads/2026/02/Screenshot-2026-02-06-at-14.45.16.png
END:VEVENT
BEGIN:VEVENT
DTSTART;TZID=Europe/Paris:20260309T160000
DTEND;TZID=Europe/Paris:20260309T180000
DTSTAMP:20260422T014845
CREATED:20260206T135544Z
LAST-MODIFIED:20260309T110443Z
UID:8851-1773072000-1773079200@www.dynamiccompetition.com
SUMMARY:Constitution of Innovation Workshop: 28th Regime
DESCRIPTION:
URL:https://www.dynamiccompetition.com/event/constitution-of-innovation-workshop-28th-regime/
CATEGORIES:Virtual
ATTACH;FMTTYPE=image/webp:https://www.dynamiccompetition.com/wp-content/uploads/2026/02/istockphoto-949615220-612x612-1.webp
END:VEVENT
BEGIN:VEVENT
DTSTART;TZID=America/New_York:20260327T123000
DTEND;TZID=America/New_York:20260327T140000
DTSTAMP:20260422T014845
CREATED:20260206T135947Z
LAST-MODIFIED:20260325T162938Z
UID:8854-1774614600-1774620000@www.dynamiccompetition.com
SUMMARY:Launch of the Journal of Dynamic Competition (JDC)
DESCRIPTION:Register here\nMore information on the journal here
URL:https://www.dynamiccompetition.com/event/launch-of-the-journal-of-dynamic-competition/
LOCATION:Washington DC
CATEGORIES:In-person Conference
ATTACH;FMTTYPE=image/png:https://www.dynamiccompetition.com/wp-content/uploads/2026/02/Screenshot-2026-02-06-at-14.59.26.png
END:VEVENT
BEGIN:VEVENT
DTSTART;VALUE=DATE:20260409
DTEND;VALUE=DATE:20260411
DTSTAMP:20260422T014845
CREATED:20260317T131308Z
LAST-MODIFIED:20260325T162613Z
UID:8875-1775692800-1775865599@www.dynamiccompetition.com
SUMMARY:3rd Annual DCI Conference
DESCRIPTION:On 9-10 April 2026\, the EUI will host the third Annual Conference of the Dynamic Competition Initiative (DCI).\nDynamic competition is making a mark on competition policy. Guidelines\, decisions\, and judgments now routinely reference dynamic competition\, which in itself is a considerable achievement. \nHowever\, the depth of understanding behind these references varies. This is understandable\, as scholarly work on the theoretical and applied aspects of dynamic competition remains incomplete. Consequently\, some ambiguity persists in practice regarding its definition\, empirical estimation\, and policy relevance. \nThis conference will critically examine the potential and limits of dynamic competition. It will explore the areas in which dynamic competition is already well understood and incorporated into competition policy. It will also identify gaps in scholarship that must be addressed to develop tools for more systematically integrating dynamic competition. The event is part of the annual conference series organised by the Dynamic Competition Initiative (DCI).
URL:https://www.dynamiccompetition.com/event/3rd-annual-dci-conference/
LOCATION:Florence\, Italy
CATEGORIES:In-person Conference,Invitation-only
ATTACH;FMTTYPE=image/jpeg:https://www.dynamiccompetition.com/wp-content/uploads/2026/03/eugeniya-belova-PwcM9xlDfxo-unsplash-scaled.jpg
END:VEVENT
BEGIN:VEVENT
DTSTART;VALUE=DATE:20260424
DTEND;VALUE=DATE:20260425
DTSTAMP:20260422T014845
CREATED:20260317T131653Z
LAST-MODIFIED:20260317T131653Z
UID:8878-1776988800-1777075199@www.dynamiccompetition.com
SUMMARY:DCI Seminar at the Brussels Study Center (BSC)
DESCRIPTION:
URL:https://www.dynamiccompetition.com/event/dci-seminar-at-the-brussels-study-center-bsc/
LOCATION:Brussels\, Belgium
CATEGORIES:Education
ATTACH;FMTTYPE=image/jpeg:https://www.dynamiccompetition.com/wp-content/uploads/2026/03/juhi-sewchurran-1cUCnnqjyFk-unsplash-scaled.jpg
END:VEVENT
BEGIN:VEVENT
DTSTART;VALUE=DATE:20260430
DTEND;VALUE=DATE:20260501
DTSTAMP:20260422T014845
CREATED:20260317T132551Z
LAST-MODIFIED:20260421T135132Z
UID:8886-1777507200-1777593599@www.dynamiccompetition.com
SUMMARY:DCI Webinar | The Innovation Defence: A Capabilities Test for Merger Review
DESCRIPTION:
URL:https://www.dynamiccompetition.com/event/capabilities-online-workshop/
LOCATION:online
CATEGORIES:Virtual
ATTACH;FMTTYPE=image/jpeg:https://www.dynamiccompetition.com/wp-content/uploads/2026/03/pine-watt-2Hzmz15wGik-unsplash-scaled.jpg
END:VEVENT
BEGIN:VEVENT
DTSTART;VALUE=DATE:20260518
DTEND;VALUE=DATE:20260520
DTSTAMP:20260422T014845
CREATED:20260317T132917Z
LAST-MODIFIED:20260317T132917Z
UID:8888-1779062400-1779235199@www.dynamiccompetition.com
SUMMARY:Constitution of Innovation (CoI) Workshop: Specialized Courts
DESCRIPTION:
URL:https://www.dynamiccompetition.com/event/constitution-of-innovation-coi-workshop-specialized-courts/
LOCATION:Florence\, Italy
CATEGORIES:In-person Conference,Invitation-only
ATTACH;FMTTYPE=image/jpeg:https://www.dynamiccompetition.com/wp-content/uploads/2026/03/clovis-wood-y8f-31bJahw-unsplash-1-scaled.jpg
END:VEVENT
END:VCALENDAR