BEGIN:VCALENDAR
VERSION:2.0
PRODID:-//Dynamic Competition Initiative - ECPv6.15.20//NONSGML v1.0//EN
CALSCALE:GREGORIAN
METHOD:PUBLISH
X-ORIGINAL-URL:https://www.dynamiccompetition.com
X-WR-CALDESC:Events for Dynamic Competition Initiative
REFRESH-INTERVAL;VALUE=DURATION:PT1H
X-Robots-Tag:noindex
X-PUBLISHED-TTL:PT1H
BEGIN:VTIMEZONE
TZID:Europe/Paris
BEGIN:DAYLIGHT
TZOFFSETFROM:+0100
TZOFFSETTO:+0200
TZNAME:CEST
DTSTART:20220327T010000
END:DAYLIGHT
BEGIN:STANDARD
TZOFFSETFROM:+0200
TZOFFSETTO:+0100
TZNAME:CET
DTSTART:20221030T010000
END:STANDARD
BEGIN:DAYLIGHT
TZOFFSETFROM:+0100
TZOFFSETTO:+0200
TZNAME:CEST
DTSTART:20230326T010000
END:DAYLIGHT
BEGIN:STANDARD
TZOFFSETFROM:+0200
TZOFFSETTO:+0100
TZNAME:CET
DTSTART:20231029T010000
END:STANDARD
BEGIN:DAYLIGHT
TZOFFSETFROM:+0100
TZOFFSETTO:+0200
TZNAME:CEST
DTSTART:20240331T010000
END:DAYLIGHT
BEGIN:STANDARD
TZOFFSETFROM:+0200
TZOFFSETTO:+0100
TZNAME:CET
DTSTART:20241027T010000
END:STANDARD
END:VTIMEZONE
BEGIN:VEVENT
DTSTART;TZID=Europe/Paris:20231129T150000
DTEND;TZID=Europe/Paris:20231129T170000
DTSTAMP:20260423T014430
CREATED:20231106T134726Z
LAST-MODIFIED:20231202T123742Z
UID:7995-1701270000-1701277200@www.dynamiccompetition.com
SUMMARY:Online event: Competition & Innovation
DESCRIPTION:EMPIRICAL EVIDENCE:INNOVATION & COMPETITION\n\n\n \nThe Dynamic Competition Initiative is pleased to share the recording of our online event entitled “Innovation & Competition”. We presented our latest research on the interplay between competition and innovation\, including a systematic literature review and new evidence. Frederic Jenny\, Chair of the OECD Competition Committee\, presented the OECD’s work in this area ahead of the OECD Roundtable on Innovation and Competition scheduled for December 4\, 2023
URL:https://www.dynamiccompetition.com/event/competition-innovation/
LOCATION:online
CATEGORIES:Live-streamed,Online Conference
ATTACH;FMTTYPE=image/jpeg:https://www.dynamiccompetition.com/wp-content/uploads/2023/11/o-scaled.jpg
END:VEVENT
END:VCALENDAR