BEGIN:VCALENDAR
VERSION:2.0
PRODID:-//Dynamic Competition Initiative - ECPv6.15.20//NONSGML v1.0//EN
CALSCALE:GREGORIAN
METHOD:PUBLISH
X-ORIGINAL-URL:https://www.dynamiccompetition.com
X-WR-CALDESC:Events for Dynamic Competition Initiative
REFRESH-INTERVAL;VALUE=DURATION:PT1H
X-Robots-Tag:noindex
X-PUBLISHED-TTL:PT1H
BEGIN:VTIMEZONE
TZID:Europe/Paris
BEGIN:DAYLIGHT
TZOFFSETFROM:+0100
TZOFFSETTO:+0200
TZNAME:CEST
DTSTART:20240331T010000
END:DAYLIGHT
BEGIN:STANDARD
TZOFFSETFROM:+0200
TZOFFSETTO:+0100
TZNAME:CET
DTSTART:20241027T010000
END:STANDARD
BEGIN:DAYLIGHT
TZOFFSETFROM:+0100
TZOFFSETTO:+0200
TZNAME:CEST
DTSTART:20250330T010000
END:DAYLIGHT
BEGIN:STANDARD
TZOFFSETFROM:+0200
TZOFFSETTO:+0100
TZNAME:CET
DTSTART:20251026T010000
END:STANDARD
BEGIN:DAYLIGHT
TZOFFSETFROM:+0100
TZOFFSETTO:+0200
TZNAME:CEST
DTSTART:20260329T010000
END:DAYLIGHT
BEGIN:STANDARD
TZOFFSETFROM:+0200
TZOFFSETTO:+0100
TZNAME:CET
DTSTART:20261025T010000
END:STANDARD
END:VTIMEZONE
BEGIN:VEVENT
DTSTART;TZID=Europe/Paris:20250619T170000
DTEND;TZID=Europe/Paris:20250619T180000
DTSTAMP:20260422T003251
CREATED:20250602T152444Z
LAST-MODIFIED:20250611T145222Z
UID:8678-1750352400-1750356000@www.dynamiccompetition.com
SUMMARY:DCI Webinar on the DMA and Digital Advertisement
DESCRIPTION:Follow this link or QR code below to register
URL:https://www.dynamiccompetition.com/event/dci-webinar-on-the-dma-and-digital-advertisement/
LOCATION:online
CATEGORIES:Webinar
ATTACH;FMTTYPE=image/jpeg:https://www.dynamiccompetition.com/wp-content/uploads/2025/06/eleni-afiontzi-gLU8GZpHtRA-unsplash-scaled.jpg
END:VEVENT
END:VCALENDAR